BEGIN:VCALENDAR
VERSION:2.0
PRODID:-//Tukios.com/
BEGIN:VEVENT
UID:fe9d9977-b76a-4a2e-a9b9-bffaf7955658@www.hermanfh.com
DTSTAMP:20260420T050359Z
DTSTART:20260613T153000Z
DTEND:20260613T163000Z
SUMMARY:Graveside Service
DESCRIPTION:
URL:https://www.hermanfh.com/obituaries/martha-hawk-unger
LOCATION:St. Lawrence Cemetery CR 79  Gibsonburg OH 43431
GEO:41.3845416;-83.3200171
END:VEVENT
END:VCALENDAR